BEGIN:VCALENDAR
VERSION:2.0
PRODID:-//SINPREFI - ECPv6.15.12.2//NONSGML v1.0//EN
CALSCALE:GREGORIAN
METHOD:PUBLISH
X-WR-CALNAME:SINPREFI
X-ORIGINAL-URL:https://sinprefi.com.br
X-WR-CALDESC:Eventos para SINPREFI
REFRESH-INTERVAL;VALUE=DURATION:PT1H
X-Robots-Tag:noindex
X-PUBLISHED-TTL:PT1H
BEGIN:VTIMEZONE
TZID:America/Sao_Paulo
BEGIN:STANDARD
TZOFFSETFROM:-0200
TZOFFSETTO:-0300
TZNAME:-03
DTSTART:20180218T020000
END:STANDARD
BEGIN:DAYLIGHT
TZOFFSETFROM:-0300
TZOFFSETTO:-0200
TZNAME:-02
DTSTART:20181104T030000
END:DAYLIGHT
BEGIN:STANDARD
TZOFFSETFROM:-0200
TZOFFSETTO:-0300
TZNAME:-03
DTSTART:20190217T020000
END:STANDARD
END:VTIMEZONE
BEGIN:VEVENT
DTSTART;TZID=America/Sao_Paulo:20190821T080000
DTEND;TZID=America/Sao_Paulo:20190821T170000
DTSTAMP:20260420T021327
CREATED:20190125T181245Z
LAST-MODIFIED:20190125T181245Z
UID:1758-1566374400-1566406800@sinprefi.com.br
SUMMARY:Semana Nacional da Pessoa com Deficiência
DESCRIPTION:
URL:https://sinprefi.com.br/evento/semana-nacional-da-pessoa-com-deficiencia/
LOCATION:Paraná
END:VEVENT
BEGIN:VEVENT
DTSTART;TZID=America/Sao_Paulo:20190811T000000
DTEND;TZID=America/Sao_Paulo:20190811T000000
DTSTAMP:20260420T021327
CREATED:20190125T181145Z
LAST-MODIFIED:20190125T181145Z
UID:1756-1565481600-1565481600@sinprefi.com.br
SUMMARY:Dia do Estudante
DESCRIPTION:
URL:https://sinprefi.com.br/evento/dia-do-estudante/
LOCATION:Paraná
END:VEVENT
BEGIN:VEVENT
DTSTART;TZID=America/Sao_Paulo:20190811T000000
DTEND;TZID=America/Sao_Paulo:20190811T000000
DTSTAMP:20260420T021327
CREATED:20190125T181109Z
LAST-MODIFIED:20190125T181109Z
UID:1754-1565481600-1565481600@sinprefi.com.br
SUMMARY:Dia dos Pais
DESCRIPTION:
URL:https://sinprefi.com.br/evento/dia-dos-pais/
LOCATION:Paraná
END:VEVENT
BEGIN:VEVENT
DTSTART;TZID=America/Sao_Paulo:20190810T070000
DTEND;TZID=America/Sao_Paulo:20190810T100000
DTSTAMP:20260420T021327
CREATED:20190808T125728Z
LAST-MODIFIED:20190808T125728Z
UID:3442-1565420400-1565431200@sinprefi.com.br
SUMMARY:Panfletagem na Vila Portes
DESCRIPTION:
URL:https://sinprefi.com.br/evento/panfletagem-na-vila-portes/
LOCATION:Paraná
END:VEVENT
BEGIN:VEVENT
DTSTART;TZID=America/Sao_Paulo:20190807T180000
DTEND;TZID=America/Sao_Paulo:20190807T200000
DTSTAMP:20260420T021327
CREATED:20190729T182323Z
LAST-MODIFIED:20190729T182323Z
UID:3351-1565200800-1565208000@sinprefi.com.br
SUMMARY:Assembleia Geral Extraordinária SINPREFI
DESCRIPTION:
URL:https://sinprefi.com.br/evento/assembleia-geral-extraordinaria-sinprefi/
LOCATION:Escola Mun. Prof. Pedro Viriato Parigot de Souza\, Rua Benjamin Constant\, 493\, Centro\, Foz do Iguaçu\, Paraná\, Brasil
END:VEVENT
BEGIN:VEVENT
DTSTART;TZID=America/Sao_Paulo:20190807T140000
DTEND;TZID=America/Sao_Paulo:20190807T170000
DTSTAMP:20260420T021327
CREATED:20190808T125606Z
LAST-MODIFIED:20190808T125606Z
UID:3440-1565186400-1565197200@sinprefi.com.br
SUMMARY:Reunião Comissão do Plano de Carreira do Magistério
DESCRIPTION:
URL:https://sinprefi.com.br/evento/reuniao-comissao-do-plano-de-carreira-do-magisterio/
LOCATION:SMED\, Avenida Juscelino Kubitscheck\, 3287 - Vila Paraguaia\, Foz do Iguaçu\, Paraná\, 85864-000\, Brasil
END:VEVENT
BEGIN:VEVENT
DTSTART;TZID=America/Sao_Paulo:20190731T183000
DTEND;TZID=America/Sao_Paulo:20190731T200000
DTSTAMP:20260420T021327
CREATED:20190731T193144Z
LAST-MODIFIED:20190731T193144Z
UID:3409-1564597800-1564603200@sinprefi.com.br
SUMMARY:Reunião do Orçamento Participativo Municipal
DESCRIPTION:
URL:https://sinprefi.com.br/evento/reuniao-do-orcamento-participativo-municipal/
LOCATION:Escola Municipal Jardim Naipi\, rua Vicente Celestino\, 100\, Jardim Naipi\, Foz do Iguaçu\, Paraná\, Brasil
END:VEVENT
BEGIN:VEVENT
DTSTART;TZID=America/Sao_Paulo:20190730T080000
DTEND;TZID=America/Sao_Paulo:20190730T170000
DTSTAMP:20260420T021327
CREATED:20190125T181026Z
LAST-MODIFIED:20190125T181026Z
UID:1752-1564473600-1564506000@sinprefi.com.br
SUMMARY:Início do 2.º semestre escolar
DESCRIPTION:
URL:https://sinprefi.com.br/evento/inicio-do-2-o-semestre-escolar/
LOCATION:Paraná
END:VEVENT
BEGIN:VEVENT
DTSTART;TZID=America/Sao_Paulo:20190730T000000
DTEND;TZID=America/Sao_Paulo:20190730T000000
DTSTAMP:20260420T021327
CREATED:20190125T184439Z
LAST-MODIFIED:20190125T184439Z
UID:1840-1564444800-1564444800@sinprefi.com.br
SUMMARY:Início 3.º Bimestre
DESCRIPTION:
URL:https://sinprefi.com.br/evento/inicio-3-o-bimestre/
LOCATION:Paraná
END:VEVENT
BEGIN:VEVENT
DTSTART;TZID=America/Sao_Paulo:20190729T080000
DTEND;TZID=America/Sao_Paulo:20190729T170000
DTSTAMP:20260420T021327
CREATED:20190125T180928Z
LAST-MODIFIED:20190125T180928Z
UID:1750-1564387200-1564419600@sinprefi.com.br
SUMMARY:Planejamento Docente
DESCRIPTION:
URL:https://sinprefi.com.br/evento/planejamento-docente/
LOCATION:Paraná
END:VEVENT
BEGIN:VEVENT
DTSTART;TZID=America/Sao_Paulo:20190726T100000
DTEND;TZID=America/Sao_Paulo:20190726T120000
DTSTAMP:20260420T021327
CREATED:20190729T181957Z
LAST-MODIFIED:20190729T181957Z
UID:3349-1564135200-1564142400@sinprefi.com.br
SUMMARY:Reunião da Diretoria do SINPREFI
DESCRIPTION:
URL:https://sinprefi.com.br/evento/reuniao-da-diretoria-do-sinprefi-4/
LOCATION:Sede do SINPREFI\, Rua Padre Manoel da Nóbrega\, 406\, Foz do Iguaçu\, Paraná\, Brasil
END:VEVENT
BEGIN:VEVENT
DTSTART;TZID=America/Sao_Paulo:20190712T093000
DTEND;TZID=America/Sao_Paulo:20190712T120000
DTSTAMP:20260420T021327
CREATED:20190708T152946Z
LAST-MODIFIED:20190712T133737Z
UID:3258-1562923800-1562932800@sinprefi.com.br
SUMMARY:Reunião gabinete do Prefeito
DESCRIPTION:
URL:https://sinprefi.com.br/evento/reuniao-gabinete-do-prefeito/
LOCATION:Prefeitura Mun. de Foz do Iguaçu\, Praça Getulio Vargas\, 280\, Foz do Iguaçu\, Paraná\, 85851-340\, Brasil
END:VEVENT
BEGIN:VEVENT
DTSTART;TZID=America/Sao_Paulo:20190712T080000
DTEND;TZID=America/Sao_Paulo:20190712T170000
DTSTAMP:20260420T021327
CREATED:20190125T175319Z
LAST-MODIFIED:20190125T175319Z
UID:1720-1562918400-1562950800@sinprefi.com.br
SUMMARY:Término 1.º semestre escolar
DESCRIPTION:
URL:https://sinprefi.com.br/evento/termino-1-o-semestre-escolar/
LOCATION:Paraná
END:VEVENT
BEGIN:VEVENT
DTSTART;TZID=America/Sao_Paulo:20190712T000000
DTEND;TZID=America/Sao_Paulo:20190712T000000
DTSTAMP:20260420T021327
CREATED:20190125T184407Z
LAST-MODIFIED:20190125T184407Z
UID:1838-1562889600-1562889600@sinprefi.com.br
SUMMARY:Término 2.º Bimestre
DESCRIPTION:
URL:https://sinprefi.com.br/evento/termino-2-o-bimestre/
LOCATION:Paraná
END:VEVENT
BEGIN:VEVENT
DTSTART;TZID=America/Sao_Paulo:20190710T180000
DTEND;TZID=America/Sao_Paulo:20190710T200000
DTSTAMP:20260420T021327
CREATED:20190708T152757Z
LAST-MODIFIED:20190710T120016Z
UID:3256-1562781600-1562788800@sinprefi.com.br
SUMMARY:Reunião com Agentes de Apoio
DESCRIPTION:
URL:https://sinprefi.com.br/evento/reuniao-com-agentes-de-apoio/
LOCATION:Escola Municipal Elenice Milhorança\, Rua Di Cavalcanti\, Foz do Iguaçu\, Paraná\, 85865-020\, Brasil
END:VEVENT
BEGIN:VEVENT
DTSTART;TZID=America/Sao_Paulo:20190710T140000
DTEND;TZID=America/Sao_Paulo:20190710T160000
DTSTAMP:20260420T021327
CREATED:20190708T152423Z
LAST-MODIFIED:20190708T152423Z
UID:3254-1562767200-1562774400@sinprefi.com.br
SUMMARY:Reunião Comissão Plano de Carreira
DESCRIPTION:
URL:https://sinprefi.com.br/evento/reuniao-comissao-plano-de-carreira/
LOCATION:SMED\, Avenida Juscelino Kubitscheck\, 3287 - Vila Paraguaia\, Foz do Iguaçu\, Paraná\, 85864-000\, Brasil
END:VEVENT
BEGIN:VEVENT
DTSTART;TZID=America/Sao_Paulo:20190627T190000
DTEND;TZID=America/Sao_Paulo:20190627T210000
DTSTAMP:20260420T021327
CREATED:20190626T214811Z
LAST-MODIFIED:20190626T214811Z
UID:3185-1561662000-1561669200@sinprefi.com.br
SUMMARY:Palestra sobre Previdência e Reforma com professor Otoni Gonçalves Guimarães
DESCRIPTION:
URL:https://sinprefi.com.br/evento/palestra-sobre-previdencia-e-reforma-com-professor-otoni-goncalves-guimaraes/
LOCATION:SINEFI\, Avenida Tancredo Neves\, 5605\, Jardim Itaipu\, Foz do Iguaçu\, Paraná\, 85867000\, Brasil
END:VEVENT
BEGIN:VEVENT
DTSTART;TZID=America/Sao_Paulo:20190626T120000
DTEND;TZID=America/Sao_Paulo:20190626T130000
DTSTAMP:20260420T021327
CREATED:20190626T214559Z
LAST-MODIFIED:20190626T214559Z
UID:3183-1561550400-1561554000@sinprefi.com.br
SUMMARY:Reunião com prefeito sobre acesso à Escola Brigadeiro
DESCRIPTION:
URL:https://sinprefi.com.br/evento/reuniao-com-prefeito-sobre-acesso-a-escola-brigadeiro/
LOCATION:Paraná
END:VEVENT
BEGIN:VEVENT
DTSTART;TZID=America/Sao_Paulo:20190626T110000
DTEND;TZID=America/Sao_Paulo:20190626T120000
DTSTAMP:20260420T021327
CREATED:20190626T214511Z
LAST-MODIFIED:20190626T214511Z
UID:3181-1561546800-1561550400@sinprefi.com.br
SUMMARY:Votação Câmara de Vereadores sobre novas vagas na Educação
DESCRIPTION:
URL:https://sinprefi.com.br/evento/votacao-camara-de-vereadores-sobre-novas-vagas-na-educacao/
LOCATION:Câmara Municipal de Foz do Iguaçu\, Tv. Oscar Muxfeldt\, 81\, Foz do Iguaçu\, Paraná\, 85851-000\, Brasil
END:VEVENT
BEGIN:VEVENT
DTSTART;TZID=America/Sao_Paulo:20190625T140000
DTEND;TZID=America/Sao_Paulo:20190625T150000
DTSTAMP:20260420T021327
CREATED:20190626T214407Z
LAST-MODIFIED:20190626T214407Z
UID:3179-1561471200-1561474800@sinprefi.com.br
SUMMARY:Reunião de Comissão do Fundeb Foz
DESCRIPTION:
URL:https://sinprefi.com.br/evento/reuniao-de-comissao-do-fundeb-foz/
LOCATION:SMED\, Avenida Juscelino Kubitscheck\, 3287 - Vila Paraguaia\, Foz do Iguaçu\, Paraná\, 85864-000\, Brasil
END:VEVENT
BEGIN:VEVENT
DTSTART;TZID=America/Sao_Paulo:20190625T113000
DTEND;TZID=America/Sao_Paulo:20190625T130000
DTSTAMP:20260420T021327
CREATED:20190624T133623Z
LAST-MODIFIED:20190624T133623Z
UID:3153-1561462200-1561467600@sinprefi.com.br
SUMMARY:Reunião com prefeito
DESCRIPTION:
URL:https://sinprefi.com.br/evento/reuniao-com-prefeito/
LOCATION:Prefeitura Mun. de Foz do Iguaçu\, Praça Getulio Vargas\, 280\, Foz do Iguaçu\, Paraná\, 85851-340\, Brasil
END:VEVENT
BEGIN:VEVENT
DTSTART;TZID=America/Sao_Paulo:20190624T000000
DTEND;TZID=America/Sao_Paulo:20190624T000000
DTSTAMP:20260420T021327
CREATED:20190125T175221Z
LAST-MODIFIED:20190125T175221Z
UID:1718-1561334400-1561334400@sinprefi.com.br
SUMMARY:Feriado Municipal - Padroeiro São João Batista
DESCRIPTION:
URL:https://sinprefi.com.br/evento/feriado-municipal-padroeiro-sao-joao-batista/
LOCATION:Paraná
END:VEVENT
BEGIN:VEVENT
DTSTART;TZID=America/Sao_Paulo:20190621T000000
DTEND;TZID=America/Sao_Paulo:20190621T000000
DTSTAMP:20260420T021327
CREATED:20190125T175133Z
LAST-MODIFIED:20190125T175133Z
UID:1716-1561075200-1561075200@sinprefi.com.br
SUMMARY:Recesso - Corpus Christi
DESCRIPTION:
URL:https://sinprefi.com.br/evento/recesso-corpus-christi/
LOCATION:Paraná
END:VEVENT
BEGIN:VEVENT
DTSTART;TZID=America/Sao_Paulo:20190620T000000
DTEND;TZID=America/Sao_Paulo:20190620T000000
DTSTAMP:20260420T021327
CREATED:20190125T175053Z
LAST-MODIFIED:20190125T175053Z
UID:1714-1560988800-1560988800@sinprefi.com.br
SUMMARY:Feriado - Corpus Christi
DESCRIPTION:
URL:https://sinprefi.com.br/evento/feriado-corpus-christi/
LOCATION:Paraná
END:VEVENT
BEGIN:VEVENT
DTSTART;TZID=America/Sao_Paulo:20190619T160000
DTEND;TZID=America/Sao_Paulo:20190619T180000
DTSTAMP:20260420T021327
CREATED:20190619T022458Z
LAST-MODIFIED:20190619T022458Z
UID:3147-1560960000-1560967200@sinprefi.com.br
SUMMARY:Reunião Conselho Municipal de Educação
DESCRIPTION:
URL:https://sinprefi.com.br/evento/reuniao-conselho-municipal-de-educacao/
LOCATION:SMED\, Avenida Juscelino Kubitscheck\, 3287 - Vila Paraguaia\, Foz do Iguaçu\, Paraná\, 85864-000\, Brasil
END:VEVENT
BEGIN:VEVENT
DTSTART;TZID=America/Sao_Paulo:20190617T180000
DTEND;TZID=America/Sao_Paulo:20190617T200000
DTSTAMP:20260420T021327
CREATED:20190619T022356Z
LAST-MODIFIED:20190619T022356Z
UID:3145-1560794400-1560801600@sinprefi.com.br
SUMMARY:Reunião Conselho Fiscal SINPREFI
DESCRIPTION:
URL:https://sinprefi.com.br/evento/reuniao-conselho-fiscal-sinprefi-2/
LOCATION:Sede do SINPREFI\, Rua Padre Manoel da Nóbrega\, 406\, Foz do Iguaçu\, Paraná\, Brasil
END:VEVENT
BEGIN:VEVENT
DTSTART;TZID=America/Sao_Paulo:20190617T140000
DTEND;TZID=America/Sao_Paulo:20190617T150000
DTSTAMP:20260420T021327
CREATED:20190619T022308Z
LAST-MODIFIED:20190619T022308Z
UID:3142-1560780000-1560783600@sinprefi.com.br
SUMMARY:Reunião do Conselho do Trabalho de Foz do Iguaçu
DESCRIPTION:
URL:https://sinprefi.com.br/evento/reuniao-do-conselho-do-trabalho-de-foz-do-iguacu/
LOCATION:Agência do Trabalhador Foz\, Rua Xavier da Silva\, 310\, centro\, Foz do Iguaçu\, Paraná\, 85851-310\, Brasil
END:VEVENT
BEGIN:VEVENT
DTSTART;TZID=America/Sao_Paulo:20190614T070000
DTEND;TZID=America/Sao_Paulo:20190614T170000
DTSTAMP:20260420T021327
CREATED:20190527T201516Z
LAST-MODIFIED:20190603T172341Z
UID:2900-1560495600-1560531600@sinprefi.com.br
SUMMARY:Greve Geral da Educação
DESCRIPTION:
URL:https://sinprefi.com.br/evento/greve-geral-da-educacao-2/
LOCATION:Bosque Guarani\, Rua Tarobá\, 875\, Foz do Iguaçu\, Paraná\, 85851-220\, Brasil
END:VEVENT
BEGIN:VEVENT
DTSTART;TZID=America/Sao_Paulo:20190610T000000
DTEND;TZID=America/Sao_Paulo:20190610T000000
DTSTAMP:20260420T021327
CREATED:20190125T174849Z
LAST-MODIFIED:20190125T174923Z
UID:1710-1560124800-1560124800@sinprefi.com.br
SUMMARY:Feriado Municipal - aniversário de Foz do Iguaçu
DESCRIPTION:
URL:https://sinprefi.com.br/evento/aniversario-de-foz-do-iguacu/
LOCATION:Paraná
END:VEVENT
BEGIN:VEVENT
DTSTART;TZID=America/Sao_Paulo:20190601T160000
DTEND;TZID=America/Sao_Paulo:20190601T163000
DTSTAMP:20260420T021327
CREATED:20190529T191422Z
LAST-MODIFIED:20190529T191422Z
UID:2958-1559404800-1559406600@sinprefi.com.br
SUMMARY:Ao vivo na FanPage do SINPREFI
DESCRIPTION:
URL:https://sinprefi.com.br/evento/ao-vivo-na-fanpage-do-sinprefi/
LOCATION:sede do SINPREFI\, Rua Padre Manoel da Nóbrega\, 406\, Foz do Iguaçu\, Paraná\, Brasil
END:VEVENT
END:VCALENDAR