BEGIN:VCALENDAR
VERSION:2.0
PRODID:-//SINPREFI - ECPv6.15.12.2//NONSGML v1.0//EN
CALSCALE:GREGORIAN
METHOD:PUBLISH
X-ORIGINAL-URL:https://sinprefi.com.br
X-WR-CALDESC:Eventos para SINPREFI
REFRESH-INTERVAL;VALUE=DURATION:PT1H
X-Robots-Tag:noindex
X-PUBLISHED-TTL:PT1H
BEGIN:VTIMEZONE
TZID:America/Sao_Paulo
BEGIN:STANDARD
TZOFFSETFROM:-0200
TZOFFSETTO:-0300
TZNAME:-03
DTSTART:20180218T020000
END:STANDARD
BEGIN:DAYLIGHT
TZOFFSETFROM:-0300
TZOFFSETTO:-0200
TZNAME:-02
DTSTART:20181104T030000
END:DAYLIGHT
BEGIN:STANDARD
TZOFFSETFROM:-0200
TZOFFSETTO:-0300
TZNAME:-03
DTSTART:20190217T020000
END:STANDARD
END:VTIMEZONE
BEGIN:VEVENT
DTSTART;TZID=America/Sao_Paulo:20191115T000000
DTEND;TZID=America/Sao_Paulo:20191115T000000
DTSTAMP:20260419T212033
CREATED:20190125T182357Z
LAST-MODIFIED:20190125T182357Z
UID:1798-1573776000-1573776000@sinprefi.com.br
SUMMARY:Feriado - Proclamação da República
DESCRIPTION:
URL:https://sinprefi.com.br/evento/feriado-proclamacao-da-republica/
LOCATION:Paraná
END:VEVENT
BEGIN:VEVENT
DTSTART;TZID=America/Sao_Paulo:20191112T000000
DTEND;TZID=America/Sao_Paulo:20191112T000000
DTSTAMP:20260419T212033
CREATED:20190125T182312Z
LAST-MODIFIED:20190125T182312Z
UID:1796-1573516800-1573516800@sinprefi.com.br
SUMMARY:Dia do Diretor de Escola
DESCRIPTION:
URL:https://sinprefi.com.br/evento/dia-do-diretor-de-escola/
LOCATION:Paraná
END:VEVENT
BEGIN:VEVENT
DTSTART;TZID=America/Sao_Paulo:20191102T000000
DTEND;TZID=America/Sao_Paulo:20191102T000000
DTSTAMP:20260419T212033
CREATED:20190125T182228Z
LAST-MODIFIED:20190125T182228Z
UID:1794-1572652800-1572652800@sinprefi.com.br
SUMMARY:Finados
DESCRIPTION:
URL:https://sinprefi.com.br/evento/finados/
LOCATION:Paraná
END:VEVENT
BEGIN:VEVENT
DTSTART;TZID=America/Sao_Paulo:20191030T000000
DTEND;TZID=America/Sao_Paulo:20191030T000000
DTSTAMP:20260419T212033
CREATED:20190125T182151Z
LAST-MODIFIED:20190125T182202Z
UID:1792-1572393600-1572393600@sinprefi.com.br
SUMMARY:Dia da Merendeira Escolar
DESCRIPTION:
URL:https://sinprefi.com.br/evento/dia-da-merendeira-escolar/
LOCATION:Paraná
END:VEVENT
BEGIN:VEVENT
DTSTART;TZID=America/Sao_Paulo:20191028T000000
DTEND;TZID=America/Sao_Paulo:20191028T000000
DTSTAMP:20260419T212033
CREATED:20190125T182116Z
LAST-MODIFIED:20190125T182116Z
UID:1790-1572220800-1572220800@sinprefi.com.br
SUMMARY:Feriado - Dia do Servidor Público
DESCRIPTION:
URL:https://sinprefi.com.br/evento/feriado-dia-do-servidor-publico/
LOCATION:Paraná
END:VEVENT
BEGIN:VEVENT
DTSTART;TZID=America/Sao_Paulo:20191015T000000
DTEND;TZID=America/Sao_Paulo:20191015T000000
DTSTAMP:20260419T212033
CREATED:20190125T182025Z
LAST-MODIFIED:20190125T182025Z
UID:1788-1571097600-1571097600@sinprefi.com.br
SUMMARY:Feriado - Dia dos Professores
DESCRIPTION:
URL:https://sinprefi.com.br/evento/feriado-dia-dos-professores/
LOCATION:Paraná
END:VEVENT
BEGIN:VEVENT
DTSTART;TZID=America/Sao_Paulo:20191014T080000
DTEND;TZID=America/Sao_Paulo:20191014T170000
DTSTAMP:20260419T212033
CREATED:20190125T181933Z
LAST-MODIFIED:20190125T181933Z
UID:1786-1571040000-1571072400@sinprefi.com.br
SUMMARY:Reunião Pedagógica | Conselho de Classe
DESCRIPTION:
URL:https://sinprefi.com.br/evento/reuniao-pedagogica-conselho-de-classe/
LOCATION:Paraná
END:VEVENT
BEGIN:VEVENT
DTSTART;TZID=America/Sao_Paulo:20191012T080000
DTEND;TZID=America/Sao_Paulo:20191012T170000
DTSTAMP:20260419T212033
CREATED:20190125T181842Z
LAST-MODIFIED:20190125T181842Z
UID:1784-1570867200-1570899600@sinprefi.com.br
SUMMARY:Dia das Crianças | Dia de Nossa Senhora Aparecida
DESCRIPTION:
URL:https://sinprefi.com.br/evento/dia-das-criancas-dia-de-nossa-senhora-aparecida/
LOCATION:Paraná
END:VEVENT
BEGIN:VEVENT
DTSTART;TZID=America/Sao_Paulo:20191011T080000
DTEND;TZID=America/Sao_Paulo:20191011T170000
DTSTAMP:20260419T212033
CREATED:20190125T181755Z
LAST-MODIFIED:20190125T181755Z
UID:1782-1570780800-1570813200@sinprefi.com.br
SUMMARY:Semana Cultural
DESCRIPTION:
URL:https://sinprefi.com.br/evento/semana-cultural-3/
LOCATION:Paraná
END:VEVENT
BEGIN:VEVENT
DTSTART;TZID=America/Sao_Paulo:20191010T080000
DTEND;TZID=America/Sao_Paulo:20191010T170000
DTSTAMP:20260419T212033
CREATED:20190125T181739Z
LAST-MODIFIED:20190125T181739Z
UID:1780-1570694400-1570726800@sinprefi.com.br
SUMMARY:Semana Cultural
DESCRIPTION:
URL:https://sinprefi.com.br/evento/semana-cultural-2/
LOCATION:Paraná
END:VEVENT
BEGIN:VEVENT
DTSTART;TZID=America/Sao_Paulo:20191009T080000
DTEND;TZID=America/Sao_Paulo:20191009T170000
DTSTAMP:20260419T212033
CREATED:20190125T181722Z
LAST-MODIFIED:20190125T181722Z
UID:1778-1570608000-1570640400@sinprefi.com.br
SUMMARY:Semana Cultural
DESCRIPTION:
URL:https://sinprefi.com.br/evento/semana-cultural/
LOCATION:Paraná
END:VEVENT
BEGIN:VEVENT
DTSTART;TZID=America/Sao_Paulo:20191008T190000
DTEND;TZID=America/Sao_Paulo:20191008T200000
DTSTAMP:20260419T212033
CREATED:20191007T164013Z
LAST-MODIFIED:20191007T164013Z
UID:3819-1570561200-1570564800@sinprefi.com.br
SUMMARY:Reunião com profissionais da educação dos CMEI's
DESCRIPTION:
URL:https://sinprefi.com.br/evento/reuniao-com-profissionais-da-educacao-dos-cmeis/
LOCATION:Centro Escola Bairro Érico Veríssimo
END:VEVENT
BEGIN:VEVENT
DTSTART;TZID=America/Sao_Paulo:20191008T180000
DTEND;TZID=America/Sao_Paulo:20191008T190000
DTSTAMP:20260419T212033
CREATED:20191007T163903Z
LAST-MODIFIED:20191007T163934Z
UID:3816-1570557600-1570561200@sinprefi.com.br
SUMMARY:Reunião com profissionais da educação das Escolas Municipais
DESCRIPTION:
URL:https://sinprefi.com.br/evento/reuniao-com-profissionais-da-educacao-das-escolas-municipais/
LOCATION:Centro Escola Bairro Érico Veríssimo
END:VEVENT
BEGIN:VEVENT
DTSTART;TZID=America/Sao_Paulo:20191001T000000
DTEND;TZID=America/Sao_Paulo:20191001T000000
DTSTAMP:20260419T212033
CREATED:20190125T184540Z
LAST-MODIFIED:20190125T184540Z
UID:1844-1569888000-1569888000@sinprefi.com.br
SUMMARY:Início 4.º Bimestre
DESCRIPTION:
URL:https://sinprefi.com.br/evento/inicio-4-o-bimestre/
LOCATION:Paraná
END:VEVENT
BEGIN:VEVENT
DTSTART;TZID=America/Sao_Paulo:20190930T080000
DTEND;TZID=America/Sao_Paulo:20190930T170000
DTSTAMP:20260419T212033
CREATED:20190125T181644Z
LAST-MODIFIED:20190125T181644Z
UID:1776-1569830400-1569862800@sinprefi.com.br
SUMMARY:Dia do Secretário de Escola
DESCRIPTION:
URL:https://sinprefi.com.br/evento/dia-do-secretario-de-escola/
LOCATION:Paraná
END:VEVENT
BEGIN:VEVENT
DTSTART;TZID=America/Sao_Paulo:20190930T000000
DTEND;TZID=America/Sao_Paulo:20190930T000000
DTSTAMP:20260419T212033
CREATED:20190125T184510Z
LAST-MODIFIED:20190125T184510Z
UID:1842-1569801600-1569801600@sinprefi.com.br
SUMMARY:Término 3.º Bimestre
DESCRIPTION:
URL:https://sinprefi.com.br/evento/termino-3-o-bimestre/
LOCATION:Paraná
END:VEVENT
BEGIN:VEVENT
DTSTART;TZID=America/Sao_Paulo:20190926T110000
DTEND;TZID=America/Sao_Paulo:20190926T120000
DTSTAMP:20260419T212033
CREATED:20190924T211442Z
LAST-MODIFIED:20190926T133607Z
UID:3748-1569495600-1569499200@sinprefi.com.br
SUMMARY:TRANSFERIDA - APOSENTADOS - REUNIÃO COM PREFEITO SOBRE PARIDADE
DESCRIPTION:
URL:https://sinprefi.com.br/evento/aposentados-reuniao-com-prefeito-sobre-paridade/
LOCATION:Prefeitura Mun. de Foz do Iguaçu\, Praça Getulio Vargas\, 280\, Foz do Iguaçu\, Paraná\, 85851-340\, Brasil
END:VEVENT
BEGIN:VEVENT
DTSTART;TZID=America/Sao_Paulo:20190925T090000
DTEND;TZID=America/Sao_Paulo:20190925T120000
DTSTAMP:20260419T212033
CREATED:20190924T211540Z
LAST-MODIFIED:20190924T211540Z
UID:3750-1569402000-1569412800@sinprefi.com.br
SUMMARY:AUDIÊNCIA PÚBLICA PARA APRESENTAÇÃO DOS CONSELHEIROS TUTELARES
DESCRIPTION:
URL:https://sinprefi.com.br/evento/audiencia-publica-para-apresentacao-dos-conselheiros-tutelares/
LOCATION:Câmara Municipal de Foz do Iguaçu\, Tv. Oscar Muxfeldt\, 81\, Foz do Iguaçu\, Paraná\, 85851-000\, Brasil
END:VEVENT
BEGIN:VEVENT
DTSTART;TZID=America/Sao_Paulo:20190907T080000
DTEND;TZID=America/Sao_Paulo:20190907T170000
DTSTAMP:20260419T212033
CREATED:20190125T181601Z
LAST-MODIFIED:20190125T181601Z
UID:1774-1567843200-1567875600@sinprefi.com.br
SUMMARY:Independência do Brasil
DESCRIPTION:
URL:https://sinprefi.com.br/evento/independencia-do-brasil/
LOCATION:Paraná
END:VEVENT
BEGIN:VEVENT
DTSTART;TZID=America/Sao_Paulo:20190906T140000
DTEND;TZID=America/Sao_Paulo:20190906T170000
DTSTAMP:20260419T212033
CREATED:20190906T150206Z
LAST-MODIFIED:20190906T150206Z
UID:3650-1567778400-1567789200@sinprefi.com.br
SUMMARY:Reunião Plano de Carreira
DESCRIPTION:
URL:https://sinprefi.com.br/evento/reuniao-plano-de-carreira/
LOCATION:Paraná
END:VEVENT
BEGIN:VEVENT
DTSTART;TZID=America/Sao_Paulo:20190903T190000
DTEND;TZID=America/Sao_Paulo:20190903T220000
DTSTAMP:20260419T212033
CREATED:20190902T131914Z
LAST-MODIFIED:20190902T131914Z
UID:3592-1567537200-1567548000@sinprefi.com.br
SUMMARY:Primeira aula de Formação de Alfabetizadores
DESCRIPTION:
URL:https://sinprefi.com.br/evento/primeira-aula-de-formacao-de-alfabetizadores/
LOCATION:UNIOESTE\, Av. Tarquínio Joslin dos Santos\, 1300 - Loteamento Universitario das Américas\, Foz do Iguaçu\, Paraná\, 85870-650\, Brasil
END:VEVENT
BEGIN:VEVENT
DTSTART;TZID=America/Sao_Paulo:20190902T180000
DTEND;TZID=America/Sao_Paulo:20190902T200000
DTSTAMP:20260419T212033
CREATED:20190902T131827Z
LAST-MODIFIED:20190902T131827Z
UID:3590-1567447200-1567454400@sinprefi.com.br
SUMMARY:Reunião de diretoria SINPREFI
DESCRIPTION:
URL:https://sinprefi.com.br/evento/reuniao-de-diretoria-sinprefi/
LOCATION:Sede do SINPREFI\, Rua Padre Manoel da Nóbrega\, 406\, Foz do Iguaçu\, Paraná\, Brasil
END:VEVENT
BEGIN:VEVENT
DTSTART;TZID=America/Sao_Paulo:20190829T180000
DTEND;TZID=America/Sao_Paulo:20190829T200000
DTSTAMP:20260419T212033
CREATED:20190823T195030Z
LAST-MODIFIED:20190823T195030Z
UID:3546-1567101600-1567108800@sinprefi.com.br
SUMMARY:Assembleia Geral Extraordinária SINPREFI
DESCRIPTION:
URL:https://sinprefi.com.br/evento/assembleia-geral-extraordinaria-sinprefi-2/
LOCATION:Escola Municipal Elenice Milhorança\, Rua Di Cavalcanti\, Foz do Iguaçu\, Paraná\, 85865-020\, Brasil
END:VEVENT
BEGIN:VEVENT
DTSTART;TZID=America/Sao_Paulo:20190828T080000
DTEND;TZID=America/Sao_Paulo:20190828T170000
DTSTAMP:20260419T212033
CREATED:20190125T181527Z
LAST-MODIFIED:20190125T181527Z
UID:1772-1566979200-1567011600@sinprefi.com.br
SUMMARY:Semana Nacional da Pessoa com Deficiência
DESCRIPTION:
URL:https://sinprefi.com.br/evento/semana-nacional-da-pessoa-com-deficiencia-8/
LOCATION:Paraná
END:VEVENT
BEGIN:VEVENT
DTSTART;TZID=America/Sao_Paulo:20190827T080000
DTEND;TZID=America/Sao_Paulo:20190827T170000
DTSTAMP:20260419T212033
CREATED:20190125T181504Z
LAST-MODIFIED:20190125T181504Z
UID:1770-1566892800-1566925200@sinprefi.com.br
SUMMARY:Semana Nacional da Pessoa com Deficiência
DESCRIPTION:
URL:https://sinprefi.com.br/evento/semana-nacional-da-pessoa-com-deficiencia-7/
LOCATION:Paraná
END:VEVENT
BEGIN:VEVENT
DTSTART;TZID=America/Sao_Paulo:20190826T080000
DTEND;TZID=America/Sao_Paulo:20190826T170000
DTSTAMP:20260419T212033
CREATED:20190125T181438Z
LAST-MODIFIED:20190125T181438Z
UID:1768-1566806400-1566838800@sinprefi.com.br
SUMMARY:Semana Nacional da Pessoa com Deficiência
DESCRIPTION:
URL:https://sinprefi.com.br/evento/semana-nacional-da-pessoa-com-deficiencia-6/
LOCATION:Paraná
END:VEVENT
BEGIN:VEVENT
DTSTART;TZID=America/Sao_Paulo:20190825T080000
DTEND;TZID=America/Sao_Paulo:20190825T170000
DTSTAMP:20260419T212033
CREATED:20190125T181416Z
LAST-MODIFIED:20190125T181416Z
UID:1766-1566720000-1566752400@sinprefi.com.br
SUMMARY:Semana Nacional da Pessoa com Deficiência
DESCRIPTION:
URL:https://sinprefi.com.br/evento/semana-nacional-da-pessoa-com-deficiencia-5/
LOCATION:Paraná
END:VEVENT
BEGIN:VEVENT
DTSTART;TZID=America/Sao_Paulo:20190824T080000
DTEND;TZID=America/Sao_Paulo:20190824T170000
DTSTAMP:20260419T212033
CREATED:20190125T181355Z
LAST-MODIFIED:20190125T181355Z
UID:1764-1566633600-1566666000@sinprefi.com.br
SUMMARY:Semana Nacional da Pessoa com Deficiência
DESCRIPTION:
URL:https://sinprefi.com.br/evento/semana-nacional-da-pessoa-com-deficiencia-4/
LOCATION:Paraná
END:VEVENT
BEGIN:VEVENT
DTSTART;TZID=America/Sao_Paulo:20190823T080000
DTEND;TZID=America/Sao_Paulo:20190823T170000
DTSTAMP:20260419T212033
CREATED:20190125T181333Z
LAST-MODIFIED:20190125T181333Z
UID:1762-1566547200-1566579600@sinprefi.com.br
SUMMARY:Semana Nacional da Pessoa com Deficiência
DESCRIPTION:
URL:https://sinprefi.com.br/evento/semana-nacional-da-pessoa-com-deficiencia-3/
LOCATION:Paraná
END:VEVENT
BEGIN:VEVENT
DTSTART;TZID=America/Sao_Paulo:20190822T080000
DTEND;TZID=America/Sao_Paulo:20190822T170000
DTSTAMP:20260419T212033
CREATED:20190125T181312Z
LAST-MODIFIED:20190125T181312Z
UID:1760-1566460800-1566493200@sinprefi.com.br
SUMMARY:Semana Nacional da Pessoa com Deficiência
DESCRIPTION:
URL:https://sinprefi.com.br/evento/semana-nacional-da-pessoa-com-deficiencia-2/
LOCATION:Paraná
END:VEVENT
END:VCALENDAR